BEGIN:VCALENDAR
VERSION:2.0
PRODID:-//ChamberMaster//Event Calendar 2.0//EN
METHOD:PUBLISH
X-PUBLISHED-TTL:P3D
REFRESH-INTERVAL:P3D
CALSCALE:GREGORIAN
BEGIN:VEVENT
DTSTART;VALUE=DATE:20110514
DTEND;VALUE=DATE:20110516
TRANSP:TRANSPARENT
X-MICROSOFT-CDO-ALLDAYEVENT:TRUE
SUMMARY:Back to Nature\, Legacy Live Oak Dedication & Conservation Celebration
DESCRIPTION:Friday - Outings all day on land and water with top So. Carolina naturalists\n\nSaturday - Legacy Live Oak Dedication and Conservation Celebration\n\nSponsored by the Edisto Island Open Land Trust
X-ALT-DESC;FMTTYPE=text/html:Friday - Outings all day on land and water with top So. Carolina naturalists<br />\nSaturday - Legacy Live Oak Dedication and Conservation Celebration<br />\nSponsored by the Edisto Island Open Land Trust<br />\n
LOCATION:Indigo Farms\, Highway 174
UID:e.528.259
SEQUENCE:3
DTSTAMP:20260423T182938Z
URL:https://business.colletonchamber.org/events/details/back-to-nature-legacy-live-oak-dedication-conservation-celebration-05-14-2011-259
END:VEVENT

END:VCALENDAR
