BEGIN:VCALENDAR
VERSION:2.0
PRODID:-//ChamberMaster//Event Calendar 2.0//EN
METHOD:PUBLISH
X-PUBLISHED-TTL:P3D
REFRESH-INTERVAL:P3D
CALSCALE:GREGORIAN
BEGIN:VEVENT
DTSTART;VALUE=DATE:20100514
DTEND;VALUE=DATE:20100515
TRANSP:TRANSPARENT
X-MICROSOFT-CDO-ALLDAYEVENT:TRUE
SUMMARY:Bar B Q at South Carolina Artisans Center
DESCRIPTION:Opening night of the Walterboro Antiques\, History and Arts Festival will be held at the SC Artisans Center. \nChefs Charlie Spears and Hank Amundson
X-ALT-DESC;FMTTYPE=text/html:<div><span style="font-size: small">Opening night of the Walterboro Antiques\, History and Arts Festival will be held at the SC Artisans Center. </span></div><div><span style="font-size: small"><br />Chefs Charlie Spears and Hank Amundson</span></div>
LOCATION:318 Wichman St
UID:e.528.181
SEQUENCE:3
DTSTAMP:20260424T113841Z
URL:https://business.colletonchamber.org/events/details/bar-b-q-at-south-carolina-artisans-center-05-14-2010-181
END:VEVENT

END:VCALENDAR
