BEGIN:VCALENDAR
VERSION:2.0
PRODID:-//ChamberMaster//Event Calendar 2.0//EN
METHOD:PUBLISH
X-PUBLISHED-TTL:P3D
REFRESH-INTERVAL:P3D
CALSCALE:GREGORIAN
BEGIN:VEVENT
DTSTART;VALUE=DATE:20110304
DTEND;VALUE=DATE:20110307
TRANSP:TRANSPARENT
X-MICROSOFT-CDO-ALLDAYEVENT:TRUE
SUMMARY:Belk - Friends & Family Sale
DESCRIPTION:belk\n\n	\n\n	Friends & Family Sale\n\n	\n\n	3-day Sale\n\n	Fri. - Sun.\, March 4-6\n\n	Save an Extra\n\n	\n\n	20% off\n\n	15% off Home and Shoes\n\n	On Regular\, Sale and Clearance Purchases*\n\n	\n\n	*Exclusiions applies on certain items
X-ALT-DESC;FMTTYPE=text/html:<p style="text-align: center">\n	<span style="font-family: tahoma"><span style="font-size: 18px">belk<br />\n	<br />\n	Friends &amp\; Family Sale<br />\n	<br />\n	3-day Sale<br />\n	Fri. - Sun.\, March 4-6<br />\n	<span style="font-size: 16px">Save an Extra<br />\n	<br />\n	<span style="font-size: 20px">20% off<br />\n	<span style="font-size: 16px">15% off Home and Shoes<br />\n	On Regular\, Sale and Clearance Purchases*</span><br />\n	<br />\n	<span style="font-size: 12px">*Exclusiions applies on certain items</span></span></span></span></span><br />\n	&nbsp\;</p>\n
LOCATION:belk - Walterboro 389 Bells Highway
UID:e.528.273
SEQUENCE:3
DTSTAMP:20260423T205952Z
URL:https://business.colletonchamber.org/events/details/belk-friends-family-sale-03-04-2011-273
END:VEVENT

END:VCALENDAR
