BEGIN:VCALENDAR
VERSION:2.0
PRODID:-//ChamberMaster//Event Calendar 2.0//EN
METHOD:PUBLISH
X-PUBLISHED-TTL:P3D
REFRESH-INTERVAL:P3D
CALSCALE:GREGORIAN
BEGIN:VEVENT
DTSTART;VALUE=DATE:20110607
DTEND;VALUE=DATE:20110819
TRANSP:TRANSPARENT
X-MICROSOFT-CDO-ALLDAYEVENT:TRUE
SUMMARY:Bingo
DESCRIPTION:Sponsored by the Edisto Lions Club
X-ALT-DESC;FMTTYPE=text/html:Sponsored by the Edisto Lions Club
LOCATION:Lions Club\, Myrtle Street\, Edisto Beach
UID:e.528.261
SEQUENCE:3
DTSTAMP:20260423T142227Z
URL:https://business.colletonchamber.org/events/details/bingo-06-07-2011-261
END:VEVENT

END:VCALENDAR
