BEGIN:VCALENDAR
VERSION:2.0
PRODID:-//ChamberMaster//Event Calendar 2.0//EN
METHOD:PUBLISH
X-PUBLISHED-TTL:P3D
REFRESH-INTERVAL:P3D
CALSCALE:GREGORIAN
BEGIN:VEVENT
DTSTART:20130917T160000Z
DTEND:20130917T170000Z
X-MICROSOFT-CDO-ALLDAYEVENT:FALSE
SUMMARY:Board of Directors Meeting
DESCRIPTION:
X-ALT-DESC;FMTTYPE=text/html:
LOCATION:
UID:e.528.500
SEQUENCE:3
DTSTAMP:20260422T022435Z
URL:https://business.colletonchamber.org/events/details/board-of-directors-meeting-09-17-2013-500
END:VEVENT

END:VCALENDAR
