BEGIN:VCALENDAR
VERSION:2.0
PRODID:-//ChamberMaster//Event Calendar 2.0//EN
METHOD:PUBLISH
X-PUBLISHED-TTL:P3D
REFRESH-INTERVAL:P3D
CALSCALE:GREGORIAN
BEGIN:VEVENT
DTSTART:20111209T000000Z
DTEND:20111209T000000Z
X-MICROSOFT-CDO-ALLDAYEVENT:FALSE
SUMMARY:Brass Quintet
DESCRIPTION:The Charleston Symphony Orchestra Brass Quintet will perform a special holiday concert from Bach to the Silver Screen at St. Jude's Episcopal Church.  A reception with the musicians will follow in Skardon Hall.
X-ALT-DESC;FMTTYPE=text/html:<span style="font-size: 12px"><span style="font-family: comic sans ms">The Charleston Symphony Orchestra Brass Quintet will perform a special holiday concert from Bach to the Silver Screen at St. Jude&#39\;s Episcopal Church.&nbsp\; A reception with the musicians will follow in Skardon Hall.</span></span><br />\n<span style="font-family: comic sans ms">&nbsp\;</span><br />\n
LOCATION:St. Jude's Episcopal Church 907 Wichman Street Walterboro\, SC
UID:e.528.317
SEQUENCE:3
DTSTAMP:20260423T083422Z
URL:https://business.colletonchamber.org/events/details/brass-quintet-12-08-2011-317
END:VEVENT

END:VCALENDAR
