BEGIN:VCALENDAR
VERSION:2.0
PRODID:-//ChamberMaster//Event Calendar 2.0//EN
METHOD:PUBLISH
X-PUBLISHED-TTL:P3D
REFRESH-INTERVAL:P3D
CALSCALE:GREGORIAN
BEGIN:VEVENT
DTSTART;VALUE=DATE:20110902
DTEND;VALUE=DATE:20110904
TRANSP:TRANSPARENT
X-MICROSOFT-CDO-ALLDAYEVENT:TRUE
SUMMARY:Buck's Pizza King Mackerel Tournament
DESCRIPTION:"No Check-Out Tournament" Southern Kingfish Association Division 3 event\n\nTournament pays 10 places with a top prize of $10\,000 (based on 100 entries)
X-ALT-DESC;FMTTYPE=text/html:"No Check-Out Tournament" Southern Kingfish Association Division 3 event\n<br>Tournament pays 10 places with a top prize of $10\,000 (based on 100 entries)
LOCATION:Edisto Marina\, 3702 Docksite Road\, Edisto Beach
UID:e.528.265
SEQUENCE:3
DTSTAMP:20260423T123240Z
URL:https://business.colletonchamber.org/events/details/buck-s-pizza-king-mackerel-tournament-09-02-2011-265
END:VEVENT

END:VCALENDAR
