BEGIN:VCALENDAR
VERSION:2.0
PRODID:-//ChamberMaster//Event Calendar 2.0//EN
METHOD:PUBLISH
X-PUBLISHED-TTL:P3D
REFRESH-INTERVAL:P3D
CALSCALE:GREGORIAN
BEGIN:VEVENT
DTSTART:20110130T183000Z
DTEND:20110130T193000Z
X-MICROSOFT-CDO-ALLDAYEVENT:FALSE
SUMMARY:Burns Day at USC Salkehatchie
DESCRIPTION:Burns Day at USC Salkehatchie\n\n	\n\n	Celebration of the birthday of Scottish poet Robert Burns\, featuring more than 100 books on Scottish and Celtic history donated to the USC Salkehatchie Libraries by Milton Harden.
X-ALT-DESC;FMTTYPE=text/html:<p style="text-align: center">\n	<span style="font-family: verdana"><span style="font-size: 22px">Burns Day at USC Salkehatchie</span></span><br />\n	<br />\n	<span style="font-size: 16px"><span style="font-family: verdana">Celebration of the birthday of Scottish poet Robert Burns\, featuring more than 100 books on Scottish and Celtic history donated to the USC Salkehatchie Libraries by Milton Harden.</span></span><span _fck_bookmark="1" style="display: none">&nbsp\;</span><span style="font-size: 12pt"><o:p></o:p></span></p>\n
LOCATION:Peden McLeod Library USC Salkehatchie Walterboro campus
UID:e.528.224
SEQUENCE:3
DTSTAMP:20260423T234223Z
URL:https://business.colletonchamber.org/events/details/burns-day-at-usc-salkehatchie-01-30-2011-224
END:VEVENT

END:VCALENDAR
