BEGIN:VCALENDAR
VERSION:2.0
PRODID:-//ChamberMaster//Event Calendar 2.0//EN
METHOD:PUBLISH
X-PUBLISHED-TTL:P3D
REFRESH-INTERVAL:P3D
CALSCALE:GREGORIAN
BEGIN:VEVENT
DTSTART:20110119T223000Z
DTEND:20110120T003000Z
X-MICROSOFT-CDO-ALLDAYEVENT:FALSE
SUMMARY:Business After Hours
DESCRIPTION:Chamber members and their guests are invited to attend Business After Hours\, hosted by Rizer Chevrolet.
X-ALT-DESC;FMTTYPE=text/html:Chamber members and their guests are invited to attend Business After Hours\, hosted by Rizer Chevrolet.
LOCATION:351 N. Jefferies Blvd.
UID:e.528.322
SEQUENCE:3
DTSTAMP:20260423T233451Z
URL:https://business.colletonchamber.org/events/details/business-after-hours-01-19-2011-322
END:VEVENT

END:VCALENDAR
