BEGIN:VCALENDAR
VERSION:2.0
PRODID:-//ChamberMaster//Event Calendar 2.0//EN
METHOD:PUBLISH
X-PUBLISHED-TTL:P3D
REFRESH-INTERVAL:P3D
CALSCALE:GREGORIAN
BEGIN:VEVENT
DTSTART:20120517T213000Z
DTEND:20120517T233000Z
X-MICROSOFT-CDO-ALLDAYEVENT:FALSE
SUMMARY:Business After Hours
DESCRIPTION:Walterboro-Colleton Chamber of Commerce\n\nEnterprise Bank's Dogwood Hills Golf Club\n\n \n\nalong with \n\n \n\nCoastal Community Foundation of SC\n\n \n\ninvite you to attend\n\n \n\nBusiness After Hours\n\n \n\nThere will be a special community announcement \n\nyou won't want to miss!\n\n \n\nThursday\, May 17\, 2012\n\n5:30 - 7:30 pm\n\nDogwood Hills Golf Club\n\n1 Dogwood Lane\, Hendersonville Hwy.\n\nWalterboro\, SC\n\n \n\nhors d' oeuvres\, beer & wine
X-ALT-DESC;FMTTYPE=text/html:<span style="font-weight: bold\; language: en-us"><span style="font-size: 14pt"><span style="font-family: sylfaen">Walterboro-Colleton Chamber of Commerce</span></span></span><br />\n<span style="font-weight: bold\; language: en-us"><span style="font-size: 14pt"><span style="font-family: sylfaen">Enterprise Bank&rsquo\;s Dogwood Hills Golf Club</span></span></span><br />\n&nbsp\;<br />\n<span style="font-weight: bold\; language: en-us"><span style="font-size: 9pt"><span style="font-family: sylfaen">along with </span></span></span><br />\n&nbsp\;<br />\n<span style="font-weight: bold\; language: en-us"><span style="font-size: 14pt"><span style="font-family: sylfaen">Coastal Community Foundation of SC</span></span></span><br />\n&nbsp\;<br />\n<span style="font-weight: bold\; language: en-us"><span style="font-size: 9pt"><span style="font-family: sylfaen">invite you to attend</span></span></span><br />\n&nbsp\;<br />\n<span style="font-weight: bold\; language: en-us"><span style="font-size: 16pt"><span style="color: #3366cc"><span style="font-family: lucida calligraphy">Business After Hours</span></span></span></span><br />\n&nbsp\;<br />\n<span style="font-weight: bold\; language: en-us"><span style="font-size: 9pt"><span style="color: green"><span style="font-family: lucida calligraphy">There will be a special community announcement </span></span></span></span><br />\n<span style="font-weight: bold\; text-decoration: underline\; language: en-us\; text-underline: single"><span style="font-size: 9pt"><span style="color: green"><span style="font-family: lucida calligraphy">you won&rsquo\;t want to miss!</span></span></span></span><br />\n&nbsp\;<br />\n<span style="font-weight: bold\; language: en-us"><span style="font-family: sylfaen">Thursday\, May 17\, 2012</span></span><br />\n<span style="font-weight: bold\; language: en-us"><span style="font-family: sylfaen">5:30 - 7:30 pm</span></span><br />\n<span style="font-weight: bold\; language: en-us"><span style="font-family: sylfaen">Dogwood Hills Golf Club</span></span><br />\n<span style="font-weight: bold\; language: en-us"><span style="font-family: sylfaen">1 Dogwood Lane\, Hendersonville Hwy.</span></span><br />\n<span style="font-weight: bold\; language: en-us"><span style="font-family: sylfaen">Walterboro\, SC</span></span><br />\n&nbsp\;<br />\n<span style="font-weight: bold\; language: en-us"><span style="font-family: sylfaen">hors d&rsquo\; oeuvres\, beer &amp\; wine</span></span><br />\n&nbsp\;<br />\n&nbsp\;<br />\n&nbsp\;
LOCATION:Dogwood Hills Golf Club 1 Dogwood Lane\, Hendersonville Hwy. Walterboro\, SC
UID:e.528.371
SEQUENCE:3
DTSTAMP:20260423T013118Z
URL:https://business.colletonchamber.org/events/details/business-after-hours-05-17-2012-371
END:VEVENT

END:VCALENDAR
