BEGIN:VCALENDAR
VERSION:2.0
PRODID:-//ChamberMaster//Event Calendar 2.0//EN
METHOD:PUBLISH
X-PUBLISHED-TTL:P3D
REFRESH-INTERVAL:P3D
CALSCALE:GREGORIAN
BEGIN:VEVENT
DTSTART:20111013T213000Z
DTEND:20111013T233000Z
X-MICROSOFT-CDO-ALLDAYEVENT:FALSE
SUMMARY:Business After Hours
DESCRIPTION:Join us at the SC Artisans Center for Business After Hours sponsored by the SC Artisans Center\, the Colleton County Arts Council with food provided by Piggly Wiggly Corporation.\n\n\n\nBring your business cards - this is a great time to talk about your company! \n\n\n\nEvent for Walterboro-Colleton Chamber of Commerce members only.
X-ALT-DESC;FMTTYPE=text/html:Join us at the SC Artisans Center for Business After Hours sponsored by the SC Artisans Center\, the Colleton County Arts Council with food provided by Piggly Wiggly Corporation.<br />\n<br />\nBring your business cards - this is a great time to talk about your company!&nbsp\;<br />\n<br />\nEvent for Walterboro-Colleton Chamber of Commerce members only.
LOCATION:SC Artisans Center 318 Wichman Street Walterboro\, SC
UID:e.528.302
SEQUENCE:3
DTSTAMP:20260423T113752Z
URL:https://business.colletonchamber.org/events/details/business-after-hours-10-13-2011-302
END:VEVENT

END:VCALENDAR
