BEGIN:VCALENDAR
VERSION:2.0
PRODID:-//ChamberMaster//Event Calendar 2.0//EN
METHOD:PUBLISH
X-PUBLISHED-TTL:P3D
REFRESH-INTERVAL:P3D
CALSCALE:GREGORIAN
BEGIN:VEVENT
DTSTART:20111215T223000Z
DTEND:20111216T003000Z
X-MICROSOFT-CDO-ALLDAYEVENT:FALSE
SUMMARY:Business After Hours
DESCRIPTION:Click Here
X-ALT-DESC;FMTTYPE=text/html:<a href="http://cloud.chambermaster.com/userfiles/UserFiles/chambers/528/File/Dec2011final.pdf">Click Here</a>
LOCATION:The Colleton Center
UID:e.528.320
SEQUENCE:3
DTSTAMP:20260423T100149Z
URL:https://business.colletonchamber.org/events/details/business-after-hours-12-15-2011-320
END:VEVENT

END:VCALENDAR
