BEGIN:VCALENDAR
VERSION:2.0
PRODID:-//ChamberMaster//Event Calendar 2.0//EN
METHOD:PUBLISH
X-PUBLISHED-TTL:P3D
REFRESH-INTERVAL:P3D
CALSCALE:GREGORIAN
BEGIN:VEVENT
DTSTART:20120327T120000Z
DTEND:20120327T130000Z
X-MICROSOFT-CDO-ALLDAYEVENT:FALSE
SUMMARY:Business and Breakfast
DESCRIPTION:Join us for Breakfast with Coach Chris Collins\, the new football coach at Colleton County High School.  Coach Collins will discuss is recipe for success both on and off the football field.
X-ALT-DESC;FMTTYPE=text/html:Join us for Breakfast with Coach Chris Collins\, the new football coach at Colleton County High School.&nbsp\; Coach Collins will discuss is recipe for success both on and off the football field.
LOCATION:TCL Colleton Career Center Thunderbolt Rd.
UID:e.528.368
SEQUENCE:3
DTSTAMP:20260423T042411Z
URL:https://business.colletonchamber.org/events/details/business-and-breakfast-03-27-2012-368
END:VEVENT

END:VCALENDAR
