BEGIN:VCALENDAR
VERSION:2.0
PRODID:-//ChamberMaster//Event Calendar 2.0//EN
METHOD:PUBLISH
X-PUBLISHED-TTL:P3D
REFRESH-INTERVAL:P3D
CALSCALE:GREGORIAN
BEGIN:VEVENT
DTSTART:20101028T150000Z
DTEND:20101028T190000Z
X-MICROSOFT-CDO-ALLDAYEVENT:FALSE
SUMMARY:Business & Community EXPO
DESCRIPTION:2010 Business & Community EXPO\n\n	Mark your calendars and get ready for the 11th EXPO!\n\n	The 2010 Business & Community EXPO will be held on October 28\, 2010.  This year's event will be held in the downtown area at the City of Walterboro's parking lot.   It will be an excellent opportunity to see the showcase of Colleton businesses and their products and services for our community.
X-ALT-DESC;FMTTYPE=text/html:<p style="text-align: center">\n	<span style="color: #0000ff"><span style="font-family: comic sans ms"><span style="font-size: 18px"><span style="font-size: 20px"><strong>2010 Business &amp\; Community EXPO</strong></span><br />\n	<strong>Mark your calendars and get ready for the 11th EXPO!</strong></span></span></span></p>\n<p>\n	<span style="font-family: comic sans ms"><span style="font-size: 18px"><span style="font-size: 12pt"><span style="font-family: times new roman">The 2010 Business &amp\; Community EXPO will be held on <span style="color: #0000ff"><strong>October 28\, 2010</strong></span>.&nbsp\; This year&rsquo\;s event will be held in the downtown area at the City of Walterboro&rsquo\;s parking lot. &nbsp\;&nbsp\;It will&nbsp\;be an excellent opportunity to see the showcase of Colleton businesses and their products and services for&nbsp\;our community.&nbsp\;&nbsp\;&nbsp\;&nbsp\;</span></span><br />\n	<span _fck_bookmark="1" style="display: none">&nbsp\;</span></span></span></p>\n
LOCATION:Downtown Walterboro Parking Lot
UID:e.528.217
SEQUENCE:3
DTSTAMP:20260424T032350Z
URL:https://business.colletonchamber.org/events/details/business-community-expo-10-28-2010-217
END:VEVENT

END:VCALENDAR
