BEGIN:VCALENDAR
VERSION:2.0
PRODID:-//ChamberMaster//Event Calendar 2.0//EN
METHOD:PUBLISH
X-PUBLISHED-TTL:P3D
REFRESH-INTERVAL:P3D
CALSCALE:GREGORIAN
BEGIN:VEVENT
DTSTART;VALUE=DATE:20110216
DTEND;VALUE=DATE:20110217
TRANSP:TRANSPARENT
X-MICROSOFT-CDO-ALLDAYEVENT:TRUE
SUMMARY:Business\, Home and Health Expo
DESCRIPTION:The Business\, Home and Health Expo will feature exhibits to show the public what Walterboro and Colleton County have to offer.  You will be able to see displays\, participate in health screenings\, learn tips on decorating your home and garden\, take part in the Red Cross CPR training and visit the Small Business Association Resources Center. \n\n\n\nBooth space is now available.  Contact the Chamber of Commerce for more information.\n\n\n\nThe Expo will be open to the public.
X-ALT-DESC;FMTTYPE=text/html:The Business\, Home and Health Expo will feature exhibits to show the public what Walterboro and Colleton County have to offer.&nbsp\; You will be able to see displays\, participate in health screenings\, learn tips on decorating your home and garden\, take part in the Red Cross CPR training and visit the Small Business Association Resources Center.&nbsp\;<br />\n<br />\nBooth space is now available.&nbsp\; Contact the Chamber of Commerce for more information.<br />\n<br />\nThe Expo will be open to the public.&nbsp\; 
LOCATION:The Walterboro Expo Center on Wichman Street
UID:e.528.323
SEQUENCE:3
DTSTAMP:20260423T223113Z
URL:https://business.colletonchamber.org/events/details/business-home-and-health-expo-02-16-2011-323
END:VEVENT

END:VCALENDAR
