BEGIN:VCALENDAR
VERSION:2.0
PRODID:-//ChamberMaster//Event Calendar 2.0//EN
METHOD:PUBLISH
X-PUBLISHED-TTL:P3D
REFRESH-INTERVAL:P3D
CALSCALE:GREGORIAN
BEGIN:VEVENT
DTSTART:20120216T150000Z
DTEND:20120216T220000Z
X-MICROSOFT-CDO-ALLDAYEVENT:FALSE
SUMMARY:Business\, Home and Health Expo
DESCRIPTION:Whether you are a business that is showcasing your products or services\, a health care provider offering health screenings and information\, or an interior decorator\, contractor or landscape designer - the Business\, Home and Health Expo is the premier place to be.
X-ALT-DESC;FMTTYPE=text/html:Whether you are a business that is showcasing your products or services\, a health care provider offering health screenings and information\, or an interior decorator\, contractor or landscape designer - the Business\, Home and Health Expo is the premier place to be.
LOCATION:Walterboro Expo Center 236 Wichman Street Walterboro\, S.C 29488
UID:e.528.331
SEQUENCE:3
DTSTAMP:20260423T055945Z
URL:https://business.colletonchamber.org/events/details/business-home-and-health-expo-02-16-2012-331
END:VEVENT

END:VCALENDAR
