BEGIN:VCALENDAR
VERSION:2.0
PRODID:-//ChamberMaster//Event Calendar 2.0//EN
METHOD:PUBLISH
X-PUBLISHED-TTL:P3D
REFRESH-INTERVAL:P3D
CALSCALE:GREGORIAN
BEGIN:VEVENT
DTSTART:20100513T220000Z
DTEND:20100514T010000Z
X-MICROSOFT-CDO-ALLDAYEVENT:FALSE
SUMMARY:CCAC Martinis & Me
DESCRIPTION:Colleton County Arts Council fundraiser to support the After School Arts Program for the upcoming school year.  Martinis\, Food\, Fashion Show & Silent Auction (Beer & Wine also available).  Tickets available at the CCAC office\, Downtown Books & Espresso\, Griffin Jewelers\, Colleton's Fine Clothing\, or an event host.
X-ALT-DESC;FMTTYPE=text/html:Colleton County Arts Council fundraiser to support the After School Arts Program for the upcoming school year.  Martinis\, Food\, Fashion Show &amp\; Silent Auction (Beer &amp\; Wine also available).  Tickets available at the CCAC office\, Downtown Books &amp\; Espresso\, Griffin Jewelers\, Colleton's Fine Clothing\, or an event host.
LOCATION:Home of Stephanie Carnohan- 200 Mystic Lane (Forest Hills)
UID:e.528.187
SEQUENCE:3
DTSTAMP:20260424T101220Z
URL:https://business.colletonchamber.org/events/details/ccac-martinis-me-05-13-2010-187
END:VEVENT

END:VCALENDAR
