BEGIN:VCALENDAR
VERSION:2.0
PRODID:-//ChamberMaster//Event Calendar 2.0//EN
METHOD:PUBLISH
X-PUBLISHED-TTL:P3D
REFRESH-INTERVAL:P3D
CALSCALE:GREGORIAN
BEGIN:VEVENT
DTSTART:20110108T230000Z
DTEND:20110109T030000Z
X-MICROSOFT-CDO-ALLDAYEVENT:FALSE
SUMMARY:CCHAPS Annual 12th Night Colonial Ball
DESCRIPTION:Colleton County Historical and Preservation Society's \n\n	Annual 12th Night Colonial Ball \n\n	\n\n	Partiicipants are encouraged to dress in colonial costume. A dance master will be available to show how many of the dances of the 18th century were performed.
X-ALT-DESC;FMTTYPE=text/html:<p style="text-align: center">\n	<span style="font-family: comic sans ms"><span style="font-size: 16px">Colleton County Historical and Preservation Society&#39\;s </span><br />\n	<span style="font-size: 18px">Annual 12th Night Colonial Ball </span><br />\n	<br />\n	<span style="font-size: 12px">Partiicipants are encouraged to dress in colonial costume. A dance master will be available to show how many of the dances of the 18th century were performed.</span></span></p>\n
LOCATION:Bedon-Lucas House 205 Church Street
UID:e.528.209
SEQUENCE:3
DTSTAMP:20260423T233715Z
URL:https://business.colletonchamber.org/events/details/cchaps-annual-12th-night-colonial-ball-01-08-2011-209
END:VEVENT

END:VCALENDAR
