BEGIN:VCALENDAR
VERSION:2.0
PRODID:-//ChamberMaster//Event Calendar 2.0//EN
METHOD:PUBLISH
X-PUBLISHED-TTL:P3D
REFRESH-INTERVAL:P3D
CALSCALE:GREGORIAN
BEGIN:VEVENT
DTSTART;VALUE=DATE:20120112
DTEND;VALUE=DATE:20120113
TRANSP:TRANSPARENT
X-MICROSOFT-CDO-ALLDAYEVENT:TRUE
SUMMARY:CCHAPS Annual Business Meeting and Officer Elections
DESCRIPTION:
X-ALT-DESC;FMTTYPE=text/html:
LOCATION:Bedon-Lucas House
UID:e.528.326
SEQUENCE:3
DTSTAMP:20260423T071943Z
URL:https://business.colletonchamber.org/events/details/cchaps-annual-business-meeting-and-officer-elections-01-12-2012-326
END:VEVENT

END:VCALENDAR
