BEGIN:VCALENDAR
VERSION:2.0
PRODID:-//ChamberMaster//Event Calendar 2.0//EN
METHOD:PUBLISH
X-PUBLISHED-TTL:P3D
REFRESH-INTERVAL:P3D
CALSCALE:GREGORIAN
BEGIN:VEVENT
DTSTART:20110113T233000Z
DTEND:20110114T010000Z
X-MICROSOFT-CDO-ALLDAYEVENT:FALSE
SUMMARY:CCHAPS Annual Meeting
DESCRIPTION:The Colleton County Historical and Preservation Society Annual Business Meeting will update members on the events of the past year and plans for the future. The election of new officers will take place at this meeting.
X-ALT-DESC;FMTTYPE=text/html:The Colleton County Historical and Preservation Society Annual Business Meeting will update members on the events of the past year and plans for the future. The election of new officers will take place at this meeting.
LOCATION:Bedon-Lucas House 205 Church St
UID:e.528.225
SEQUENCE:3
DTSTAMP:20260423T233547Z
URL:https://business.colletonchamber.org/events/details/cchaps-annual-meeting-01-13-2011-225
END:VEVENT

END:VCALENDAR
