BEGIN:VCALENDAR
VERSION:2.0
PRODID:-//ChamberMaster//Event Calendar 2.0//EN
METHOD:PUBLISH
X-PUBLISHED-TTL:P3D
REFRESH-INTERVAL:P3D
CALSCALE:GREGORIAN
BEGIN:VEVENT
DTSTART;VALUE=DATE:20101017
DTEND;VALUE=DATE:20101018
TRANSP:TRANSPARENT
X-MICROSOFT-CDO-ALLDAYEVENT:TRUE
SUMMARY:CCHAPS Annual Plantation Tour
DESCRIPTION:CCHAPS Annual Plantation Tour begins with a service at Pon Pon Chapel\, followed by lunch and a tour of teh Combahee River Plantations and Natural Areas.
X-ALT-DESC;FMTTYPE=text/html:CCHAPS Annual Plantation Tour begins with a service at Pon Pon Chapel\, followed by lunch and a tour of teh Combahee River Plantations and Natural Areas.
LOCATION:
UID:e.528.190
SEQUENCE:3
DTSTAMP:20260424T032349Z
URL:https://business.colletonchamber.org/events/details/cchaps-annual-plantation-tour-10-17-2010-190
END:VEVENT

END:VCALENDAR
