BEGIN:VCALENDAR
VERSION:2.0
PRODID:-//ChamberMaster//Event Calendar 2.0//EN
METHOD:PUBLISH
X-PUBLISHED-TTL:P3D
REFRESH-INTERVAL:P3D
CALSCALE:GREGORIAN
BEGIN:VEVENT
DTSTART;VALUE=DATE:20101016
DTEND;VALUE=DATE:20101017
TRANSP:TRANSPARENT
X-MICROSOFT-CDO-ALLDAYEVENT:TRUE
SUMMARY:CCHAPS Plantation Presentation and Silent Auction
DESCRIPTION:CCHAPS will hold it's Plantation Tour kick off with a presentation of Lowcountry Plantations and a silent auction.
X-ALT-DESC;FMTTYPE=text/html:CCHAPS will hold it's Plantation Tour kick off with a presentation of Lowcountry Plantations and a silent auction.  
LOCATION:TBD
UID:e.528.191
SEQUENCE:3
DTSTAMP:20260424T032345Z
URL:https://business.colletonchamber.org/events/details/cchaps-plantation-presentation-and-silent-auction-10-16-2010-191
END:VEVENT

END:VCALENDAR
