BEGIN:VCALENDAR
VERSION:2.0
PRODID:-//ChamberMaster//Event Calendar 2.0//EN
METHOD:PUBLISH
X-PUBLISHED-TTL:P3D
REFRESH-INTERVAL:P3D
CALSCALE:GREGORIAN
BEGIN:VEVENT
DTSTART:20101002T150000Z
DTEND:20101002T180000Z
X-MICROSOFT-CDO-ALLDAYEVENT:FALSE
SUMMARY:Celebration of 140 Years of Firefighting
DESCRIPTION:Celebrating 140 Years of Firefighting\n\n	\n\n	The Walterboro Fire Department\n\n	wants you and your family\n\n	to join them as they celebrate\n\n	140 years of firefighting\n\n	 \n\n	Food   Fun   Displays   Demos   Fire Truck Slide   Raffle & More\n\n	\n\n	Food by the Boy Scouts\n\n	\n\n	Fun for the whole Family!
X-ALT-DESC;FMTTYPE=text/html:<p style="text-align: center">\n	<strong><span style="font-size: 16px"><span style="font-family: comic sans ms">Celebrating 140 Years of Firefighting</span></span></strong><br />\n	<br />\n	<span style="font-size: 14px"><span style="font-family: comic sans ms">The Walterboro Fire Department<br />\n	wants you and your family<br />\n	to join them as they celebrate<br />\n	140 years of firefighting</span></span><br />\n	&nbsp\;</p>\n<p style="text-align: center">\n	<span style="font-size: 14px"><span style="font-family: comic sans ms">Food &diams\; Fun &diams\; Displays &diams\; Demos &diams\; Fire Truck&nbsp\;Slide &diams\; Raffle &amp\; More<br />\n	<br />\n	Food by the Boy Scouts<br />\n	<br />\n	Fun for the whole Family!</span></span><br />\n	&nbsp\;</p>
LOCATION:Downtown Walteboro City Parking Lot
UID:e.528.199
SEQUENCE:3
DTSTAMP:20260424T032632Z
URL:https://business.colletonchamber.org/events/details/celebration-of-140-years-of-firefighting-10-02-2010-199
END:VEVENT

END:VCALENDAR
