BEGIN:VCALENDAR
VERSION:2.0
PRODID:-//ChamberMaster//Event Calendar 2.0//EN
METHOD:PUBLISH
X-PUBLISHED-TTL:P3D
REFRESH-INTERVAL:P3D
CALSCALE:GREGORIAN
BEGIN:VEVENT
DTSTART;VALUE=DATE:20101001
DTEND;VALUE=DATE:20101011
TRANSP:TRANSPARENT
X-MICROSOFT-CDO-ALLDAYEVENT:TRUE
SUMMARY:Celebration of American Craft Week
DESCRIPTION:With These Hands Gallery is proud to join in the national celebration of American Craft Week.  With These Hands Gallery will feature a local Edisto Artist each day of the event\, with a Meet The Artist Reception the last day of the event\, Sunday\, October 10\, 2010 from 1   4 pm.   \n\n	\n\n	Schedule Of Featured Artists:\n\n	 \n\n	Friday\, October 1\, 2010   Susan Zoltewicz   Photographer - Exhibit\n\n	Saturday\, October 2\, 2010   Charlotte Hutson-Wrenn   Painter   Exhibit\n\n	Tuesday\, October 5\, 2010   Laurel Schmoyer   Mixed Media/Edisto Shell Tree Exhibit\n\n	Wednesday\, October 6\, 2010   Ann Skidmore   Mixed Media/Gourds Exhibit\n\n	Thursday\, October 7\, 2010    Marilyn McGowan   Potter   Demonstration          \n\n	Friday\, October 8\, 2010   Ronette Botelho   Jeweler   Fall Design Exhibit\n\n	Saturday\, October 9\, 2010  Sallie Currin   Fiber/Smocked Children & Doll Clothes Exhibit
X-ALT-DESC;FMTTYPE=text/html:<p style="text-align: center">\n	<span style="font-size: 14px"><font face="Times New Roman"><span style="font-style: italic\; font-weight: bold">With These Hands Gallery</span> is proud to join in the national celebration of American Craft Week.&nbsp\; </font></span><font face="Times New Roman"><st1:personname w:st="on"><span style="font-size: 14px">With These Hands Gallery</span></st1:personname></font><span style="font-size: 14px"><font face="Times New Roman"> will feature a local Edisto Artist each day of the event\, with a Meet The Artist Reception the last day of the event\, Sunday\, October 10\, 2010 from 1 &ndash\; 4 pm.&nbsp\;&nbsp\;<span _fck_bookmark="1" style="display: none">&nbsp\;</span></font></span><br />\n	<br />\n	<span style="font-size: large"><span style="font-family: times new roman"><span style="color: #003300"><span style="font-size: 14pt"><span style="color: #003300"><span style="font-family: times new roman">Schedule Of Featured Artists:</span></span></span></span></span></span><br />\n	&nbsp\;<br />\n	<span style="font-size: small"><span style="font-family: times new roman"><span style="font-size: 11pt"><span style="font-family: times new roman">Friday\, October 1\, 2010 &ndash\; Susan Zoltewicz &ndash\; Photographer - Exhibit</span></span></span></span><br />\n	<span style="font-size: small"><span style="font-family: times new roman"><span style="font-size: 11pt"><span style="font-family: times new roman">Saturday\, October 2\, 2010 &ndash\; Charlotte Hutson-Wrenn &ndash\; Painter &ndash\; Exhibit</span></span></span></span><br />\n	<span style="font-size: small"><span style="font-family: times new roman"><span style="font-size: 11pt"><span style="font-family: times new roman">Tuesday\, October 5\, 2010 &ndash\; Laurel Schmoyer &ndash\; Mixed Media/Edisto Shell Tree Exhibit</span></span></span></span><br />\n	<span style="font-size: small"><span style="font-family: times new roman"><span style="font-size: 11pt"><span style="font-family: times new roman">Wednesday\, October 6\, 2010 &ndash\; Ann Skidmore &ndash\; Mixed Media/Gourds Exhibit</span></span></span></span><br />\n	<span style="font-size: small"><span style="font-family: times new roman"><span style="font-size: 11pt"><span style="font-family: times new roman">Thursday\, October 7\, 2010 &ndash\; &nbsp\;Marilyn McGowan &ndash\; Potter &ndash\; Demonstration&nbsp\;&nbsp\;&nbsp\;&nbsp\;&nbsp\;&nbsp\;&nbsp\;&nbsp\;&nbsp\; </span></span></span></span><br />\n	<span style="font-size: small"><span style="font-family: times new roman"><span style="font-size: 11pt"><span style="font-family: times new roman">Friday\, October 8\, 2010 &ndash\; Ronette Botelho &ndash\; Jeweler &ndash\; Fall Design Exhibit</span></span></span></span><br />\n	<span style="font-size: small"><span style="font-family: times new roman"><span style="font-size: 11pt"><span style="font-family: times new roman">Saturday\, October 9\, 2010 &ndash\;Sallie Currin &ndash\; Fiber/Smocked Children &amp\; Doll Clothes Exhibit&nbsp\;</span></span></span></span><br />\n	&nbsp\;</p>\n
LOCATION:1444 Highway 174 (next to the Old Post Office restaurant) Edisto Island\, SC
UID:e.528.210
SEQUENCE:3
DTSTAMP:20260424T032436Z
URL:https://business.colletonchamber.org/events/details/celebration-of-american-craft-week-10-01-2010-210
END:VEVENT

END:VCALENDAR
