BEGIN:VCALENDAR
VERSION:2.0
PRODID:-//ChamberMaster//Event Calendar 2.0//EN
METHOD:PUBLISH
X-PUBLISHED-TTL:P3D
REFRESH-INTERVAL:P3D
CALSCALE:GREGORIAN
BEGIN:VEVENT
DTSTART:20130119T140000Z
DTEND:20130119T180000Z
X-MICROSOFT-CDO-ALLDAYEVENT:FALSE
SUMMARY:Chamber of Commerce Polar Bear Golf Tournament
DESCRIPTION:
X-ALT-DESC;FMTTYPE=text/html:
LOCATION:Dogwood Hills Golf Club
UID:e.528.425
SEQUENCE:3
DTSTAMP:20260422T135858Z
URL:https://business.colletonchamber.org/events/details/chamber-of-commerce-polar-bear-golf-tournament-01-19-2013-425
END:VEVENT

END:VCALENDAR
