BEGIN:VCALENDAR
VERSION:2.0
PRODID:-//ChamberMaster//Event Calendar 2.0//EN
METHOD:PUBLISH
X-PUBLISHED-TTL:P3D
REFRESH-INTERVAL:P3D
CALSCALE:GREGORIAN
BEGIN:VEVENT
DTSTART:20110326T210000Z
DTEND:20110327T010000Z
X-MICROSOFT-CDO-ALLDAYEVENT:FALSE
SUMMARY:Chili Bowl and Oyster Roast
DESCRIPTION:Chili Bowl and Oyster Roast\n\n	\n\n	The Downtown Walterboro Criterium and the SC Artisans Center will host\n\n	their first Chili Cook-off and Oyster Roast.
X-ALT-DESC;FMTTYPE=text/html:<p style="text-align: center">\n	<span style="font-family: comic sans ms"><span style="font-size: 16px">Chili&nbsp\;Bowl and Oyster Roast<br />\n	<br />\n	<span style="font-size: 12px">The Downtown Walterboro Criterium and the SC Artisans Center will host<br />\n	their first Chili Cook-off and Oyster Roast.</span></span></span></p>\n
LOCATION:Turkey Run/Copeland Farm 3484 Cane Branch Road Turn by Cracker Barrel onto Cane Branch Road Travel 3.4 miles & Copeland Farm will be on the right
UID:e.528.251
SEQUENCE:3
DTSTAMP:20260423T205728Z
URL:https://business.colletonchamber.org/events/details/chili-bowl-and-oyster-roast-03-26-2011-251
END:VEVENT

END:VCALENDAR
