BEGIN:VCALENDAR
VERSION:2.0
PRODID:-//ChamberMaster//Event Calendar 2.0//EN
METHOD:PUBLISH
X-PUBLISHED-TTL:P3D
REFRESH-INTERVAL:P3D
CALSCALE:GREGORIAN
BEGIN:VEVENT
DTSTART:20120331T220000Z
DTEND:20120401T000000Z
X-MICROSOFT-CDO-ALLDAYEVENT:FALSE
SUMMARY:Chili Cook Off and Oyster Roast
DESCRIPTION:Join the S C Artisans Center & Downtown Walterboro Criterium in finding out who makes the Best Chili in Colleton County\, while enjoying some Lowcountry Oysters!\n\n\n\nTickets $15 per person or $25 a couple.\n\n\n\nCHILI COOKS WANTED!!!!!\n\nCooks and 1 helper are admitted free!\n\n\n\nEntry Information will be on the www.scartisanscenter.com SOON or 843-549-0011.\n\n\n\nPRIZE $$ and Trophy for WINNER!
X-ALT-DESC;FMTTYPE=text/html:Join the S C Artisans Center &amp\; Downtown Walterboro Criterium in finding out who makes the Best Chili in Colleton County\, while enjoying some Lowcountry Oysters!<br />\n<br />\nTickets $15 per person or $25 a couple.<br />\n<br />\nCHILI COOKS WANTED!!!!!<br />\nCooks and 1 helper are admitted free!<br />\n<br />\nEntry Information will be on the <a href="http://www.scartisanscenter.com/" rel="nofollow nofollow" target="_blank">www.scartisanscenter.com</a> SOON or 843-549-0011.<br />\n<br />\nPRIZE $$ and Trophy for WINNER!<br />\n
LOCATION:Colleton Museum and Farmers Market 506 E. Washington Street Walterboro\, SC 29488
UID:e.528.360
SEQUENCE:3
DTSTAMP:20260423T054700Z
URL:https://business.colletonchamber.org/events/details/chili-cook-off-and-oyster-roast-03-31-2012-360
END:VEVENT

END:VCALENDAR
