BEGIN:VCALENDAR
VERSION:2.0
PRODID:-//ChamberMaster//Event Calendar 2.0//EN
METHOD:PUBLISH
X-PUBLISHED-TTL:P3D
REFRESH-INTERVAL:P3D
CALSCALE:GREGORIAN
BEGIN:VEVENT
DTSTART:20130515T120000Z
DTEND:20130515T130000Z
X-MICROSOFT-CDO-ALLDAYEVENT:FALSE
SUMMARY:Coffee with with colleagues -Shoneys
DESCRIPTION:Coffee with colleagues is an opportunity to get your day started with a fresh cup of coffee and communicate with other business people in your community.
X-ALT-DESC;FMTTYPE=text/html:Coffee with colleagues is an opportunity to get your day started with a fresh cup of coffee and communicate with other business people in your community.
LOCATION:This month's coffee with colleagues will be at Shoney's
UID:e.528.489
SEQUENCE:3
DTSTAMP:20260422T092934Z
URL:https://business.colletonchamber.org/events/details/coffee-with-with-colleagues-shoneys-05-15-2013-489
END:VEVENT

END:VCALENDAR
