BEGIN:VCALENDAR
VERSION:2.0
PRODID:-//ChamberMaster//Event Calendar 2.0//EN
METHOD:PUBLISH
X-PUBLISHED-TTL:P3D
REFRESH-INTERVAL:P3D
CALSCALE:GREGORIAN
BEGIN:VEVENT
DTSTART:20121016T140000Z
DTEND:20121018T180000Z
X-MICROSOFT-CDO-ALLDAYEVENT:FALSE
SUMMARY:Colleton Cares toy assistance applications accepted
DESCRIPTION:
X-ALT-DESC;FMTTYPE=text/html:
LOCATION:112 Robertson Blvd (Goodwill Building)
UID:e.528.413
SEQUENCE:3
DTSTAMP:20260422T184146Z
URL:https://business.colletonchamber.org/events/details/colleton-cares-toy-assistance-applications-accepted-10-16-2012-413
END:VEVENT

END:VCALENDAR
