BEGIN:VCALENDAR
VERSION:2.0
PRODID:-//ChamberMaster//Event Calendar 2.0//EN
METHOD:PUBLISH
X-PUBLISHED-TTL:P3D
REFRESH-INTERVAL:P3D
CALSCALE:GREGORIAN
BEGIN:VEVENT
DTSTART;VALUE=DATE:20240726
DTEND;VALUE=DATE:20240727
TRANSP:TRANSPARENT
X-MICROSOFT-CDO-ALLDAYEVENT:TRUE
SUMMARY:Colleton County Board Positions Application Deadline
DESCRIPTION:Application for appointment may be obtained from the Delegation office (403 E. Washington St.) or via email: skeith@colletoncounty.org. All applicants must be registered voters in Colleton County. Applications must be returned to the office by Friday\, July 26\, 2024.
X-ALT-DESC;FMTTYPE=text/html:<span style="color: rgb(0\, 0\, 0)\; font-family: &quot\;Times New Roman&quot\;\; font-size: medium\;">Application for appointment may be obtained from the Delegation office (403 E. Washington St.) or via email: skeith@colletoncounty.org. All applicants must be registered voters in Colleton County. Applications must be returned to the office by Friday\, July 26\, 2024.</span>
LOCATION:
UID:e.528.3119
SEQUENCE:3
DTSTAMP:20260419T183146Z
URL:https://business.colletonchamber.org/events/details/colleton-county-board-positions-application-deadline-3119
END:VEVENT

END:VCALENDAR
