BEGIN:VCALENDAR
VERSION:2.0
PRODID:-//ChamberMaster//Event Calendar 2.0//EN
METHOD:PUBLISH
X-PUBLISHED-TTL:P3D
REFRESH-INTERVAL:P3D
CALSCALE:GREGORIAN
BEGIN:VEVENT
DTSTART;VALUE=DATE:20120421
DTEND;VALUE=DATE:20120422
TRANSP:TRANSPARENT
X-MICROSOFT-CDO-ALLDAYEVENT:TRUE
SUMMARY:Colleton County High School Band Of Blue Motorcycle Fun Run
DESCRIPTION:THIS IS A FUNDRAISING EVENT OPEN TO ALL RIDERS FOR THE BAND OF BLUE BOOSTER CLUB TO RAISE MONEY TO HELP TOWARD THE PURCHASE PRICE OF NEW BAND UNIFORMS.\n\nTHE PRESENT BAND UNIFORMS ARE 14 YRS. OLD.
X-ALT-DESC;FMTTYPE=text/html:THIS IS A FUNDRAISING EVENT OPEN TO ALL RIDERS FOR THE BAND OF BLUE BOOSTER CLUB TO RAISE MONEY TO HELP TOWARD THE PURCHASE PRICE OF NEW BAND UNIFORMS.<br />\nTHE PRESENT BAND UNIFORMS ARE 14 YRS. OLD.<br />\n
LOCATION:THE NEW COLLETON COUNTY HIGH SCHOOL
UID:e.528.359
SEQUENCE:3
DTSTAMP:20260423T030131Z
URL:https://business.colletonchamber.org/events/details/colleton-county-high-school-band-of-blue-motorcycle-fun-run-04-21-2012-359
END:VEVENT

END:VCALENDAR
