BEGIN:VCALENDAR
VERSION:2.0
PRODID:-//ChamberMaster//Event Calendar 2.0//EN
METHOD:PUBLISH
X-PUBLISHED-TTL:P3D
REFRESH-INTERVAL:P3D
CALSCALE:GREGORIAN
BEGIN:VEVENT
DTSTART:20130314T223000Z
DTEND:20130314T233000Z
X-MICROSOFT-CDO-ALLDAYEVENT:FALSE
SUMMARY:Colleton County Historical Preservation Society
DESCRIPTION:Spring Qtrly meeting
X-ALT-DESC;FMTTYPE=text/html:Spring Qtrly meeting
LOCATION:
UID:e.528.436
SEQUENCE:3
DTSTAMP:20260422T111746Z
URL:https://business.colletonchamber.org/events/details/colleton-county-historical-preservation-society-03-14-2013-436
END:VEVENT

END:VCALENDAR
