BEGIN:VCALENDAR
VERSION:2.0
PRODID:-//ChamberMaster//Event Calendar 2.0//EN
METHOD:PUBLISH
X-PUBLISHED-TTL:P3D
REFRESH-INTERVAL:P3D
CALSCALE:GREGORIAN
BEGIN:VEVENT
DTSTART:20240813T220000Z
DTEND:20240813T230000Z
X-MICROSOFT-CDO-ALLDAYEVENT:FALSE
SUMMARY:Colleton County Legislative Delegation Meeting
DESCRIPTION:The Colleton County Legislative Delegation meeting for open positions. The Following Boards/Commissions have openings:\n1. Colleton County Board of Voter Registration and elections (3)\n\n2. Foster Care Review Board (5)\n\n3. Forestry Commission (3)\n\n4. Technical College of the Lowcountry Board of Trustees (1)
X-ALT-DESC;FMTTYPE=text/html:The Colleton County Legislative Delegation meeting for open positions. The Following Boards/Commissions have openings:\n<p>1. Colleton County Board of Voter Registration and elections (3)<br />\n2. Foster Care Review Board (5)<br />\n3. Forestry Commission (3)<br />\n4. Technical College of the Lowcountry Board of Trustees (1)</p>\n
LOCATION:Colleton County Memorial Library
UID:e.528.3117
SEQUENCE:3
DTSTAMP:20260422T094854Z
URL:https://business.colletonchamber.org/events/details/colleton-county-legislative-delegation-meeting-3117
END:VEVENT

END:VCALENDAR
