BEGIN:VCALENDAR
VERSION:2.0
PRODID:-//ChamberMaster//Event Calendar 2.0//EN
METHOD:PUBLISH
X-PUBLISHED-TTL:P3D
REFRESH-INTERVAL:P3D
CALSCALE:GREGORIAN
BEGIN:VEVENT
DTSTART:20130316T230000Z
DTEND:20130317T040000Z
X-MICROSOFT-CDO-ALLDAYEVENT:FALSE
SUMMARY:Colleton Prep's St. Patty's Day B.A.S.H.
DESCRIPTION:Public Event   Featuring the Embers!\n\n\n\nSt. Patty's Day B.A.S.H. (Building  A Scholastic Heritage)\n\n\n\n Colleton Preparatory Academy!
X-ALT-DESC;FMTTYPE=text/html:<u><strong>Public Event&nbsp\;&nbsp\; Featuring the Embers!</strong></u><br />\n<br />\nSt. Patty&#39\;s Day B.A.S.H. (Building&nbsp\; A Scholastic Heritage)<br />\n<br />\n&nbsp\;Colleton Preparatory Academy!
LOCATION:Colleton Prep Academy\, 165 Academy Road\, Walterboro\, SC 29488
UID:e.528.470
SEQUENCE:3
DTSTAMP:20260422T110436Z
URL:https://business.colletonchamber.org/events/details/colleton-prep-s-st-patty-s-day-b-a-s-h-03-16-2013-470
END:VEVENT

END:VCALENDAR
