BEGIN:VCALENDAR
VERSION:2.0
PRODID:-//ChamberMaster//Event Calendar 2.0//EN
METHOD:PUBLISH
X-PUBLISHED-TTL:P3D
REFRESH-INTERVAL:P3D
CALSCALE:GREGORIAN
BEGIN:VEVENT
DTSTART:20130804T210000Z
DTEND:20130804T220000Z
X-MICROSOFT-CDO-ALLDAYEVENT:FALSE
SUMMARY:Cougar New Tech High School Ribbon Cutting
DESCRIPTION:You Are Cordially Invited To Attend The Cougar New Tech Ribbon Cutting Ceremony\n\n	Sunday\, August 4\, 2013 at 5:00 PM\n\n	Colleton County High School\n\n	Performing Arts Center\n\n	150 Cougar Nation Drive\n\n	Walterboro\, SC 29488
X-ALT-DESC;FMTTYPE=text/html:<p class="p1">\n	You Are Cordially Invited To Attend The Cougar New Tech Ribbon Cutting Ceremony</p>\n<p class="p1">\n	Sunday\, August 4\, 2013 at 5:00 PM</p>\n<p class="p1">\n	Colleton County High School<br />\n	Performing Arts Center<br />\n	150 Cougar Nation Drive<br />\n	Walterboro\, SC 29488</p>\n
LOCATION:Colleton County New Tech Entrepreneurial Academy is a progressive school where learners use technology to complete group projects as they would in a professional work environment. Courses are taught in double classrooms by pairs of facilitators who integrate subject content to create projects that are both standards-based and relevant to learners' lives.
UID:e.528.495
SEQUENCE:3
DTSTAMP:20260422T035734Z
URL:https://business.colletonchamber.org/events/details/cougar-new-tech-high-school-ribbon-cutting-08-04-2013-495
END:VEVENT

END:VCALENDAR
