BEGIN:VCALENDAR
VERSION:2.0
PRODID:-//ChamberMaster//Event Calendar 2.0//EN
METHOD:PUBLISH
X-PUBLISHED-TTL:P3D
REFRESH-INTERVAL:P3D
CALSCALE:GREGORIAN
BEGIN:VEVENT
DTSTART:20100929T180000Z
DTEND:20100929T200000Z
X-MICROSOFT-CDO-ALLDAYEVENT:FALSE
SUMMARY:Customer Service Classes
DESCRIPTION:USC Salkehatchie Leadership Institutewill be offering Customer Service classes Learn more about how to develop and hold your customer base and loyalty\, create positive customer perceptions and how to hire for attitude and training.  Speakers will include local business owners.  Classes are FREE.
X-ALT-DESC;FMTTYPE=text/html:<div style="text-align: center"><span style="font-family: Times New Roman"><span style="font-size: small">USC&nbsp\;Salkehatchie Leadership Institute</span></span></div><div style="text-align: center"><span style="font-family: Times New Roman"><span style="font-size: small">will be offering</span></span></div><div style="text-align: center">&nbsp\;</div><div style="text-align: center"><span style="font-size: small"><span style="font-family: Times New Roman">Customer Service classes</span></span></div><div style="text-align: center">&nbsp\;</div><div style="text-align: center"><span style="font-size: small"><span style="font-family: Times New Roman">Learn more about how to develop and hold your customer base and loyalty\, create positive customer perceptions and how to hire for attitude and training.&nbsp\; Speakers will include local business owners.&nbsp\; Classes are FREE.</span></span></div>
LOCATION:USC Salkehatchie - Walterboro campus
UID:e.528.197
SEQUENCE:3
DTSTAMP:20260424T044129Z
URL:https://business.colletonchamber.org/events/details/customer-service-classes-09-29-2010-197
END:VEVENT

END:VCALENDAR
