BEGIN:VCALENDAR
VERSION:2.0
PRODID:-//ChamberMaster//Event Calendar 2.0//EN
METHOD:PUBLISH
X-PUBLISHED-TTL:P3D
REFRESH-INTERVAL:P3D
CALSCALE:GREGORIAN
BEGIN:VEVENT
DTSTART:20110409T130000Z
DTEND:20110409T150000Z
X-MICROSOFT-CDO-ALLDAYEVENT:FALSE
SUMMARY:DNR "Outdoor Life" Great Swamp Sanctuary tour
DESCRIPTION:Dean Harrigal of the SC Department of Natural Resources will host a "walk & talk outdoor life" tour of the Great Swamp Sanctuary
X-ALT-DESC;FMTTYPE=text/html:Dean Harrigal of the SC Department of Natural Resources will host a "walk &amp\; talk outdoor life" tour of the Great Swamp Sanctuary
LOCATION:Detreville Street entrance Great Swamp Sanctuary
UID:e.528.290
SEQUENCE:3
DTSTAMP:20260423T193343Z
URL:https://business.colletonchamber.org/events/details/dnr-outdoor-life-great-swamp-sanctuary-tour-04-09-2011-290
END:VEVENT

END:VCALENDAR
