BEGIN:VCALENDAR
VERSION:2.0
PRODID:-//ChamberMaster//Event Calendar 2.0//EN
METHOD:PUBLISH
X-PUBLISHED-TTL:P3D
REFRESH-INTERVAL:P3D
CALSCALE:GREGORIAN
BEGIN:VEVENT
DTSTART;VALUE=DATE:20110319
DTEND;VALUE=DATE:20110320
TRANSP:TRANSPARENT
X-MICROSOFT-CDO-ALLDAYEVENT:TRUE
SUMMARY:Donate to Learning through Loggerheads
DESCRIPTION:Learning through Loggerheads\n\n	\n\n	Take a chance and donate to win a hand-built wooden kayak to raise money for Learning through Loggerheads - a nonprofit hands on education program to expose lowcountry youngsters\n\n	to the outdoors.\n\n	\n\n	The kayak is on display until March 19 at McConkey's Jungle Shack.  Donations of $5.00 or more will be accepted at McConkey's Jungle Shack\, Po' Pigs Bo-B-Que\, Beachcombers Salon\, With These Hands Gallery and online at www.LtLonline.org.\n\n	\n\n	You do not have to present to win.
X-ALT-DESC;FMTTYPE=text/html:<p style="text-align: center">\n	<span style="font-size: 18px"><span style="font-family: tahoma">Learning through Loggerheads<br />\n	<br />\n	<span style="font-size: 14px">Take a chance and donate to win a hand-built wooden kayak to raise money for Learning through Loggerheads - a nonprofit hands on education program to expose lowcountry youngsters<br />\n	to the outdoors.<br />\n	<br />\n	The kayak is on display until March 19 at McConkey&#39\;s Jungle Shack.&nbsp\; Donations of $5.00 or more will be accepted at McConkey&#39\;s Jungle Shack\, Po&#39\; Pigs Bo-B-Que\, Beachcombers Salon\, With These Hands Gallery and online at <a href="http://www.LtLonline.org">www.LtLonline.org</a>.<br />\n	<br />\n	You do not have to present to win.</span></span></span><br />\n	&nbsp\;</p>\n
LOCATION:McConkey's Jungle Shack
UID:e.528.267
SEQUENCE:3
DTSTAMP:20260423T205259Z
URL:https://business.colletonchamber.org/events/details/donate-to-learning-through-loggerheads-03-19-2011-267
END:VEVENT

END:VCALENDAR
