BEGIN:VCALENDAR
VERSION:2.0
PRODID:-//ChamberMaster//Event Calendar 2.0//EN
METHOD:PUBLISH
X-PUBLISHED-TTL:P3D
REFRESH-INTERVAL:P3D
CALSCALE:GREGORIAN
BEGIN:VEVENT
DTSTART:20111201T220000Z
DTEND:20111202T020000Z
X-MICROSOFT-CDO-ALLDAYEVENT:FALSE
SUMMARY:Downtown Walterboro Gallery Crawl
DESCRIPTION:Meet local artists at an evening of art\, wine\, refreshments and live music.
X-ALT-DESC;FMTTYPE=text/html:Meet local artists at an evening of art\, wine\, refreshments and live music.
LOCATION:E. Washington Street
UID:e.528.313
SEQUENCE:3
DTSTAMP:20260423T083556Z
URL:https://business.colletonchamber.org/events/details/downtown-walterboro-gallery-crawl-12-01-2011-313
END:VEVENT

END:VCALENDAR
