BEGIN:VCALENDAR
VERSION:2.0
PRODID:-//ChamberMaster//Event Calendar 2.0//EN
METHOD:PUBLISH
X-PUBLISHED-TTL:P3D
REFRESH-INTERVAL:P3D
CALSCALE:GREGORIAN
BEGIN:VEVENT
DTSTART;VALUE=DATE:20110325
DTEND;VALUE=DATE:20110328
TRANSP:TRANSPARENT
X-MICROSOFT-CDO-ALLDAYEVENT:TRUE
SUMMARY:Edisto Art Guild Play
DESCRIPTION:THE EDISTO ART GUILD\n\n	presents\n\n	\n\n	THE EDISTO PLAYERS IN PAT COOK'S COMEDY\n\n	\n\n	IF IT'S MONDAY\, THIS MUST BE MURDER!
X-ALT-DESC;FMTTYPE=text/html:<p style="text-align: center">\n	<span style="font-size: 16px">THE EDISTO ART GUILD</span></p>\n<p style="text-align: center">\n	<span style="font-size: 16px">presents<br />\n	<br />\n	THE EDISTO PLAYERS IN PAT COOK&#39\;S COMEDY<br />\n	<br />\n	IF IT&#39\;S MONDAY\, THIS MUST BE MURDER!</span></p>\n<br />\n<span style="font-size: 16px"><span _fck_bookmark="1" style="display: none">&nbsp\;</span><span _fck_bookmark="1" style="display: none">&nbsp\;</span>&nbsp\;&nbsp\;&nbsp\;&nbsp\;&nbsp\;&nbsp\;&nbsp\;&nbsp\;&nbsp\;&nbsp\;&nbsp\;&nbsp\;&nbsp\;&nbsp\;&nbsp\;&nbsp\;&nbsp\;&nbsp\;&nbsp\;&nbsp\;&nbsp\;&nbsp\;&nbsp\;&nbsp\;<span _fck_bookmark="1" style="display: none">&nbsp\;</span><span _fck_bookmark="1" style="display: none">&nbsp\;</span><span _fck_bookmark="1" style="display: none">&nbsp\;</span>&nbsp\;<span _fck_bookmark="1" style="display: none">&nbsp\;</span>&nbsp\;</span><span _fck_bookmark="1" style="display: none">&nbsp\;</span><span _fck_bookmark="1" style="display: none">&nbsp\;</span><span _fck_bookmark="1" style="display: none">&nbsp\;</span><span _fck_bookmark="1" style="display: none">&nbsp\;</span><span _fck_bookmark="1" style="display: none">&nbsp\;</span><br />\n<span _fck_bookmark="1" style="display: none">&nbsp\;</span><br />\n
LOCATION:The Education/Civic Center at Edisto Beach
UID:e.528.254
SEQUENCE:3
DTSTAMP:20260423T205421Z
URL:https://business.colletonchamber.org/events/details/edisto-art-guild-play-03-25-2011-254
END:VEVENT

END:VCALENDAR
