BEGIN:VCALENDAR
VERSION:2.0
PRODID:-//ChamberMaster//Event Calendar 2.0//EN
METHOD:PUBLISH
X-PUBLISHED-TTL:P3D
REFRESH-INTERVAL:P3D
CALSCALE:GREGORIAN
BEGIN:VEVENT
DTSTART:20110507T140000Z
DTEND:20110507T190000Z
X-MICROSOFT-CDO-ALLDAYEVENT:FALSE
SUMMARY:Edisto Day Bazaar
DESCRIPTION:Event sponsored by the Kings Daughter's.  Booths include arts & crafts\, plants\, white elephant\, attic treasures\, holiday items\, books and the K-D Cafe offering hamburgers\, hot dogs\, BBQ and chili.
X-ALT-DESC;FMTTYPE=text/html:Event sponsored by the Kings Daughter's.  Booths include arts &amp\; crafts\, plants\, white elephant\, attic treasures\, holiday items\, books and the K-D Cafe offering hamburgers\, hot dogs\, BBQ and chili.
LOCATION:Lions Club\, Myrtle Street\, Edisto Beach
UID:e.528.257
SEQUENCE:3
DTSTAMP:20260423T192900Z
URL:https://business.colletonchamber.org/events/details/edisto-day-bazaar-05-07-2011-257
END:VEVENT

END:VCALENDAR
