BEGIN:VCALENDAR
VERSION:2.0
PRODID:-//ChamberMaster//Event Calendar 2.0//EN
METHOD:PUBLISH
X-PUBLISHED-TTL:P3D
REFRESH-INTERVAL:P3D
CALSCALE:GREGORIAN
BEGIN:VEVENT
DTSTART;VALUE=DATE:20110902
DTEND;VALUE=DATE:20110904
TRANSP:TRANSPARENT
X-MICROSOFT-CDO-ALLDAYEVENT:TRUE
SUMMARY:Edisto Fish & Shag Fest
DESCRIPTION:Arts & Crafts\, Sponsor and Vendor Booths\, Children's Activities\, Food & Live Music both days with a Shag Competition Saturday night
X-ALT-DESC;FMTTYPE=text/html:Arts &amp\; Crafts\, Sponsor and Vendor Booths\, Children's Activities\, Food &amp\; Live Music both days with a Shag Competition Saturday night
LOCATION:Bay Creek Park (next to Edisto Marina)
UID:e.528.266
SEQUENCE:3
DTSTAMP:20260423T124307Z
URL:https://business.colletonchamber.org/events/details/edisto-fish-shag-fest-09-02-2011-266
END:VEVENT

END:VCALENDAR
