BEGIN:VCALENDAR
VERSION:2.0
PRODID:-//ChamberMaster//Event Calendar 2.0//EN
METHOD:PUBLISH
X-PUBLISHED-TTL:P3D
REFRESH-INTERVAL:P3D
CALSCALE:GREGORIAN
BEGIN:VEVENT
DTSTART;VALUE=DATE:20110319
DTEND;VALUE=DATE:20110320
TRANSP:TRANSPARENT
X-MICROSOFT-CDO-ALLDAYEVENT:TRUE
SUMMARY:Edisto Ultimate Chef Competition!
DESCRIPTION:Edisto Ultimate Chef Competition! \nThe competition will be made of teams of 3\, and registration is open to restaurants and enthusiastic cooks. Teams can register at McConkey?s. A kayak event is planned for the morning\, the competition will follow in the afternoon\, and an oyster roast and live music will complete the festivities that evening. The event will benefit the Learning Through Loggerheads (LTL) organization. The raffle winner of a beautiful wooden kayak will also be announced during the festivities.
X-ALT-DESC;FMTTYPE=text/html:<p style="text-align: center">\n	<span style="font-size: 14px">Edisto Ultimate Chef Competition! </span></p>\nThe competition will be made of teams of 3\, and registration is open to restaurants and enthusiastic cooks. Teams can register at McConkey?s. A kayak event is planned for the morning\, the competition will follow in the afternoon\, and an oyster roast and live music will complete the festivities that evening. The event will benefit the Learning Through Loggerheads (LTL) organization. The raffle winner of a beautiful wooden kayak will also be announced during the festivities. 
LOCATION:McConkey's
UID:e.528.253
SEQUENCE:3
DTSTAMP:20260423T205350Z
URL:https://business.colletonchamber.org/events/details/edisto-ultimate-chef-competition-03-19-2011-253
END:VEVENT

END:VCALENDAR
