BEGIN:VCALENDAR
VERSION:2.0
PRODID:-//ChamberMaster//Event Calendar 2.0//EN
METHOD:PUBLISH
X-PUBLISHED-TTL:P3D
REFRESH-INTERVAL:P3D
CALSCALE:GREGORIAN
BEGIN:VEVENT
DTSTART:20101111T230000Z
DTEND:20101112T010000Z
X-MICROSOFT-CDO-ALLDAYEVENT:FALSE
SUMMARY:Empty Bowls Project
DESCRIPTION:Empty Bowls Project\n\n	\n\n	The Empty Bowls Project is an event to raise money to help organizations fight hunger and bring about awareness of hunger and food security.  Please come support this cause.\n\n	For $10 donation\, you will receive fresh\, homemade soup in a bowl made by Colleton County Arts Council's Club Mud members\, students and volunteers.\n\n	\n\n	Tickets can be purchased at the Arts Council office or Downtown Books & Espresso\n\n	\n\n	All proceeds will be donated to local food banks to be distributed to those in need in Colleton County.
X-ALT-DESC;FMTTYPE=text/html:<p style="text-align: center">\n	<span style="font-family: comic sans ms"><span style="font-size: 18px">Empty Bowls Project<br />\n	<br />\n	<span style="font-size: 12px">The Empty Bowls Project is an event to raise money to help organizations fight hunger and bring about awareness of hunger and food security.&nbsp\; Please come support this cause.<br />\n	For $10 donation\, you will receive fresh\, homemade soup in a bowl made by Colleton County Arts Council&#39\;s Club Mud members\, students&nbsp\;and volunteers.<br />\n	<br />\n	Tickets can be purchased at the Arts Council office or Downtown Books &amp\; Espresso<br />\n	<br />\n	All proceeds will be donated to local food banks to be distributed to those in need in Colleton County.</span></span></span></p>\n
LOCATION:The Colleton Center Gallery 494 Hampton Street
UID:e.528.204
SEQUENCE:3
DTSTAMP:20260424T021058Z
URL:https://business.colletonchamber.org/events/details/empty-bowls-project-11-11-2010-204
END:VEVENT

END:VCALENDAR
