BEGIN:VCALENDAR
VERSION:2.0
PRODID:-//ChamberMaster//Event Calendar 2.0//EN
METHOD:PUBLISH
X-PUBLISHED-TTL:P3D
REFRESH-INTERVAL:P3D
CALSCALE:GREGORIAN
BEGIN:VEVENT
DTSTART:20110312T230000Z
DTEND:20110313T020000Z
X-MICROSOFT-CDO-ALLDAYEVENT:FALSE
SUMMARY:ETV's Rudy Mancke - "Love of the Lowcountry"
DESCRIPTION:Great Swamp Sanctuary Day - "Love of the Lowcountry"\n\n	Rudy Mancke will present a program entitled "Love of the Lowcountry" at the Hampton Street Auditorium followed by a reception at the SC Artisans Center.\n\n	\n\n	All proceeds will benefit the Great Swamp Sanctuary's Discovery Center.
X-ALT-DESC;FMTTYPE=text/html:<p style="text-align: center">\n	<span style="font-size: 16px"><span style="font-family: times new roman">Great Swamp Sanctuary Day - &quot\;Love of the Lowcountry&quot\;</span></span></p>\n<p>\n	<span style="font-size: 12px"><span style="font-family: times new roman">Rudy Mancke will present a program entitled &quot\;Love of the Lowcountry&quot\; at the Hampton Street Auditorium followed by a reception at the SC Artisans Center.<br />\n	<br />\n	All proceeds will benefit the Great Swamp Sanctuary&#39\;s Discovery Center.</span></span></p>\n
LOCATION:Program - Hampton Street Auditorium 494 Hampton Street Reception - SC Artisans Center 318 Wichman Street
UID:e.528.249
SEQUENCE:3
DTSTAMP:20260423T210039Z
URL:https://business.colletonchamber.org/events/details/etv-s-rudy-mancke-love-of-the-lowcountry-03-12-2011-249
END:VEVENT

END:VCALENDAR
