BEGIN:VCALENDAR
VERSION:2.0
PRODID:-//ChamberMaster//Event Calendar 2.0//EN
METHOD:PUBLISH
X-PUBLISHED-TTL:P3D
REFRESH-INTERVAL:P3D
CALSCALE:GREGORIAN
BEGIN:VEVENT
DTSTART:20110312T140000Z
DTEND:20110312T160000Z
X-MICROSOFT-CDO-ALLDAYEVENT:FALSE
SUMMARY:ETV's Rudy Mancke - "Walk and Talk" Tour
DESCRIPTION:Great Swamp Sanctuary Day\n\n	The Friends of the Great Swamp Sanctuary will play host to renowned naturalist Rudy Mancke on March 12\, in celebration of Great Swamp Sanctuary Day.  The event will take place in the City of Walterboro\, known for both its historic charm and abundant natural resources.\n\n	\n\n	Mancke will share his knowledge and love of ecosystems with a "Walk and Talk".  The walking tour will begin at the entrance of Detreville Street (off of South Jefferies Blvd. at the Live Oak Cemetery).
X-ALT-DESC;FMTTYPE=text/html:<p style="text-align: center">\n	<span style="font-size: 16px"><span style="font-family: times new roman">Great Swamp Sanctuary Day</span></span></p>\n<p>\n	<span style="font-family: times new roman">The Friends of the Great Swamp Sanctuary will play host to renowned naturalist Rudy Mancke on March 12\, in celebration of Great Swamp Sanctuary Day.&nbsp\; The event will take place in the City of Walterboro\, known for both its historic charm and abundant natural resources.<br />\n	<br />\n	Mancke will share his knowledge and love of ecosystems with a &quot\;Walk and Talk&quot\;.&nbsp\; The walking tour will begin at the entrance of Detreville Street (off of South Jefferies Blvd. at the Live Oak Cemetery).</span></p>\n
LOCATION:Tour will begin at the entrance of Detreville Street (off of South Jefferies Blvd. at the Live Oak Cemetery)
UID:e.528.247
SEQUENCE:3
DTSTAMP:20260423T222953Z
URL:https://business.colletonchamber.org/events/details/etv-s-rudy-mancke-walk-and-talk-tour-03-12-2011-247
END:VEVENT

END:VCALENDAR
