BEGIN:VCALENDAR
VERSION:2.0
PRODID:-//ChamberMaster//Event Calendar 2.0//EN
METHOD:PUBLISH
X-PUBLISHED-TTL:P3D
REFRESH-INTERVAL:P3D
CALSCALE:GREGORIAN
BEGIN:VEVENT
DTSTART:20110312T190000Z
DTEND:20110312T210000Z
X-MICROSOFT-CDO-ALLDAYEVENT:FALSE
SUMMARY:ETV's Rudy Mancke - "What is This?" session
DESCRIPTION:Great Swamp Sanctuary Day - "What is This?"\n\n	Mancke will identify artifacts brought in by visitors during the "What is This?" session.  Each person may bring up to two items to be identified.  The cost is $5.00 per person.  \n\n	\n\n	The event will take place at the Waterfall Memorial Park located in downtown Walterboro.  In the event of rain\, the location will shift to the Walterboro Fire Department\, located behind City Hall at 242 Hampton Street.
X-ALT-DESC;FMTTYPE=text/html:<p style="text-align: center">\n	<span style="font-size: 16px"><span style="font-family: times new roman">Great Swamp Sanctuary Day - &quot\;What is This?&quot\;</span></span></p>\n<p>\n	<span style="font-size: 12px"><span style="font-family: times new roman">Mancke will identify artifacts brought in by visitors during the &quot\;What is This?&quot\; session.&nbsp\; Each person may bring up to two items to be identified.&nbsp\; The cost is $5.00 per person.&nbsp\;&nbsp\;<br />\n	<br />\n	The event will take place at the Waterfall Memorial Park located in downtown Walterboro.&nbsp\; In the event of rain\, the location will shift to the Walterboro Fire Department\, located behind City Hall at 242 Hampton Street.</span></span></p>\n
LOCATION:Waterfall Memorial Park Downtown Walterboro
UID:e.528.248
SEQUENCE:3
DTSTAMP:20260423T222836Z
URL:https://business.colletonchamber.org/events/details/etv-s-rudy-mancke-what-is-this-session-03-12-2011-248
END:VEVENT

END:VCALENDAR
