BEGIN:VCALENDAR
VERSION:2.0
PRODID:-//ChamberMaster//Event Calendar 2.0//EN
METHOD:PUBLISH
X-PUBLISHED-TTL:P3D
REFRESH-INTERVAL:P3D
CALSCALE:GREGORIAN
BEGIN:VEVENT
DTSTART;VALUE=DATE:20110304
DTEND;VALUE=DATE:20110401
TRANSP:TRANSPARENT
X-MICROSOFT-CDO-ALLDAYEVENT:TRUE
SUMMARY:Event at With These Hands Gallery
DESCRIPTION:March Madness Sale Event\n\n\n\nIn order to make room for our new artist arrivals\, we decided to have a month long sale on our discontinued lines.  Items will be marked 15% - 50% Off!
X-ALT-DESC;FMTTYPE=text/html:March Madness Sale Event\n<br>\n<br>In order to make room for our new artist arrivals\, we decided to have a month long sale on our discontinued lines.  Items will be marked 15% - 50% Off!
LOCATION:1444 Highway 174\, Edisto Island\, SC 29438
UID:e.528.288
SEQUENCE:3
DTSTAMP:20260423T205454Z
URL:https://business.colletonchamber.org/events/details/event-at-with-these-hands-gallery-03-04-2011-288
END:VEVENT

END:VCALENDAR
