BEGIN:VCALENDAR
VERSION:2.0
PRODID:-//ChamberMaster//Event Calendar 2.0//EN
METHOD:PUBLISH
X-PUBLISHED-TTL:P3D
REFRESH-INTERVAL:P3D
CALSCALE:GREGORIAN
BEGIN:VEVENT
DTSTART;VALUE=DATE:20110409
DTEND;VALUE=DATE:20110410
TRANSP:TRANSPARENT
X-MICROSOFT-CDO-ALLDAYEVENT:TRUE
SUMMARY:Event at With These Hands Gallery
DESCRIPTION:Yart Sale  (Yard Sale + Art Sale = Yart Sale)\n\n\n\nGreat deals on previous loved art for sale.  Original framed paintings starting at $50. Artists include Ravenel Gaillard\, Mimi Whaley\, Malcolm Mackenzie\, Camille Fontaine and many more! Come early for the best selections!
X-ALT-DESC;FMTTYPE=text/html:Yart Sale  (Yard Sale + Art Sale = Yart Sale)\n<br>\n<br>Great deals on previous loved art for sale.  Original framed paintings starting at $50. Artists include Ravenel Gaillard\, Mimi Whaley\, Malcolm Mackenzie\, Camille Fontaine and many more! Come early for the best selections! 
LOCATION:1444 Highway 174\, Edisto Island\, SC
UID:e.528.293
SEQUENCE:3
DTSTAMP:20260423T205539Z
URL:https://business.colletonchamber.org/events/details/event-at-with-these-hands-gallery-04-09-2011-293
END:VEVENT

END:VCALENDAR
