BEGIN:VCALENDAR
VERSION:2.0
PRODID:-//ChamberMaster//Event Calendar 2.0//EN
METHOD:PUBLISH
X-PUBLISHED-TTL:P3D
REFRESH-INTERVAL:P3D
CALSCALE:GREGORIAN
BEGIN:VEVENT
DTSTART;VALUE=DATE:20110319
DTEND;VALUE=DATE:20110320
TRANSP:TRANSPARENT
X-MICROSOFT-CDO-ALLDAYEVENT:TRUE
SUMMARY:Event for Learning through Loggerheads
DESCRIPTION:Events for Learning through Loggerheads\n\n	\n\n	Event Schedule\n\n	\n\n	1:00 pm - Two-hour kayak ACE Basin trip with Lindsey Young\n\n	Edisto Watersports\n\n	\n\n	3:00 pm - Edisto's Ultimate Chef Competition\n\n	Piggly Wiggly/McConkey's Jungle Shack parking lot\n\n	\n\n	5:00 pm - Oyster Roast & Local Food Festival\n\n	Piggly Wiggly/McConkey's Jungle Shack parking lot\n\n	\n\n	Local restaurants will be offering some of their best fare along with all you can shuck and eat oyster.\n\n	\n\n	Music playing throughout the festival!
X-ALT-DESC;FMTTYPE=text/html:<p style="text-align: center">\n	<span style="font-family: tahoma"><span style="font-size: 16px">Events for Learning through Loggerheads<br />\n	<br />\n	<span style="font-size: 14px"><strong>Event Schedule<br />\n	<br />\n	1:00 pm</strong> - Two-hour kayak ACE Basin trip with Lindsey Young<br />\n	Edisto Watersports<br />\n	<br />\n	<strong>3:00 pm</strong> - Edisto&#39\;s Ultimate Chef Competition<br />\n	Piggly Wiggly/McConkey&#39\;s Jungle Shack parking lot<br />\n	<br />\n	<strong>5:00 pm</strong> - Oyster Roast &amp\; Local Food Festival<br />\n	Piggly Wiggly/McConkey&#39\;s Jungle&nbsp\;Shack parking lot<br />\n	<br />\n	Local restaurants will be offering some of their best fare along with all you can&nbsp\;shuck and&nbsp\;eat oyster.<br />\n	<br />\n	Music&nbsp\;playing throughout the festival!<br />\n	<br />\n	&nbsp\;</span></span></span></p>\n
LOCATION:Piggly Wiggly/McConkey's Jungle Shack
UID:e.528.268
SEQUENCE:3
DTSTAMP:20260423T205248Z
URL:https://business.colletonchamber.org/events/details/event-for-learning-through-loggerheads-03-19-2011-268
END:VEVENT

END:VCALENDAR
